BEGIN:VCALENDAR
VERSION:2.0
PRODID:-//BFM Country Line Dance Zagreb//NONSGML kigkonsult.se iCalcreator 
 2.30.10//
CALSCALE:GREGORIAN
METHOD:PUBLISH
UID:e578b29e-ac81-4bba-9942-24b376f16382
X-WR-CALNAME:iCagenda
X-WR-CALDESC:Event Management Extension for Joomla!
X-WR-RELCALID:3E26604A-50F4-4449-8B3E-E4F4932D05B5
X-WR-TIMEZONE:UTC
BEGIN:VTIMEZONE
TZID:UTC
END:VTIMEZONE
BEGIN:VEVENT
UID:c24df3ed-a298-4ac6-96f0-d9572f0fe331
DTSTAMP:20260423T054739Z
CATEGORIES:FESTIVAL
CLASS:PUBLIC
DESCRIPTION;ALTREP="CID:<FFFF__=0ABBE548DFE235B58f9e8a93d@coffeebean.com>":
 Jubileum! 10th edition of Wild East Fest will be held between 7-9th Februa
 ry 2025 in Boathouse Pub (Csónakház Mulató) in Budapest\, Hungary.\nGreat 
 workshops\, dance contests\, linedance marathon\, one shot\, dancelists an
 d linedance DJ-s and even more!\nUpdates soon!\nKeep it country\, yeeehaaa
 aw!
DTSTART:20250207T211800Z
DTEND:20250209T211800Z
GEO:+47.571568;+19.064978
LOCATION:
ORGANIZER:
SEQUENCE:1
SUMMARY:Wild East Fest 2025 - HUN
TRANSP:OPAQUE
URL:https://www.bfm-country-line-dance-zagreb.hr/past-events/wild-east-fest
 -2025-hun
END:VEVENT
END:VCALENDAR
