BEGIN:VCALENDAR
VERSION:2.0
PRODID:-//BFM Country Line Dance Zagreb//NONSGML kigkonsult.se iCalcreator 
 2.30.10//
CALSCALE:GREGORIAN
METHOD:PUBLISH
UID:ae5df2f4-7f76-4dff-a90b-f85d53860f56
X-WR-CALNAME:iCagenda
X-WR-CALDESC:Event Management Extension for Joomla!
X-WR-RELCALID:3E26604A-50F4-4449-8B3E-E4F4932D05B5
X-WR-TIMEZONE:UTC
BEGIN:VTIMEZONE
TZID:UTC
END:VTIMEZONE
BEGIN:VEVENT
UID:edb1c172-848c-47f4-b812-25d6c8992935
DTSTAMP:20260423T054746Z
CATEGORIES:FESTIVAL
CLASS:PUBLIC
DESCRIPTION:
DTSTART:20230520T223300Z
DTEND:20230521T223300Z
GEO:00;0
LOCATION:
ORGANIZER:
SEQUENCE:1
SUMMARY:WCD Festival 2023 - Istra
TRANSP:OPAQUE
URL:https://www.bfm-country-line-dance-zagreb.hr/past-events/wcd-festival-2
 023-istra
END:VEVENT
END:VCALENDAR
