BEGIN:VCALENDAR
VERSION:2.0
PRODID:-//BFM Country Line Dance Zagreb//NONSGML kigkonsult.se iCalcreator 
 2.30.10//
CALSCALE:GREGORIAN
METHOD:PUBLISH
UID:6e2f863b-8898-402f-9c73-7cd2f1df619c
X-WR-CALNAME:iCagenda
X-WR-CALDESC:Event Management Extension for Joomla!
X-WR-RELCALID:3E26604A-50F4-4449-8B3E-E4F4932D05B5
X-WR-TIMEZONE:UTC
BEGIN:VTIMEZONE
TZID:UTC
END:VTIMEZONE
BEGIN:VEVENT
UID:0cb2a3b9-e531-469e-98ea-3681d82dbeef
DTSTAMP:20260423T054928Z
CATEGORIES:FESTIVAL
CLASS:PUBLIC
DESCRIPTION;ALTREP="CID:<FFFF__=0ABBE548DFE235B58f9e8a93d@coffeebean.com>":
 Od 26. do 29. lipnja 2025. vraća se 17. izdanje Voghera Country Festivala\
 , referentnog događaja za ljubitelje country glazbe u Italiji i inozemstvu
 .\nOdabrana formula ponovno se pokazuje kao dobitna: spoj country plesa i 
 glazbe koji pruža užitak slušanja sjevernoameričkih izvođača svjetskog gla
 sa\, ali i zabavu uz plesanje tipičnog grupnog plesa – line dance – u trad
 icionalnom\, katalonskom stilu\, bez zaborava na plesove u paru kao što su
  two step i west coast swing. Pravo putovanje u američku tradiciju\, ali b
 ez napuštanja krajolika Oltrepò Pavesea – iskustvo u kojem se zaljubljenic
 i iz cijele Europe mogu okupiti u jedinstvenom okruženju\, a znatiželjnici
  mogu prvi put zakoračiti u svijet prožet duhom Divljeg zapada.
DTSTART:20250627T153600Z
DTEND:20250629T153700Z
GEO:+44.968731;+9.010912
LOCATION:Via T. Morato 18\, Voghera\, Italy
ORGANIZER;CN=:cowboys@cowboys.it
SEQUENCE:1
SUMMARY:Voghera Country Festival - ITA
TRANSP:OPAQUE
URL:https://www.bfm-country-line-dance-zagreb.hr/past-events/voghera-countr
 y-festival
END:VEVENT
END:VCALENDAR
