BEGIN:VCALENDAR
VERSION:2.0
PRODID:-//BFM Country Line Dance Zagreb//NONSGML kigkonsult.se iCalcreator 
 2.30.10//
CALSCALE:GREGORIAN
METHOD:PUBLISH
UID:9e190cdb-59d4-419e-92f7-8463b35442e6
X-WR-CALNAME:iCagenda
X-WR-CALDESC:Event Management Extension for Joomla!
X-WR-RELCALID:3E26604A-50F4-4449-8B3E-E4F4932D05B5
X-WR-TIMEZONE:UTC
BEGIN:VTIMEZONE
TZID:UTC
END:VTIMEZONE
BEGIN:VEVENT
UID:37f8fb81-252c-4724-b1f5-5bb903559dea
DTSTAMP:20260423T055918Z
CATEGORIES:PLESNA VEČER
CLASS:PUBLIC
DESCRIPTION:
DTSTART:20241207T224900Z
DTEND:20241207T224900Z
GEO:00;0
LOCATION:
ORGANIZER:
SEQUENCE:1
SUMMARY:The Troubled Angels' Christmas - SLO
TRANSP:OPAQUE
URL:https://www.bfm-country-line-dance-zagreb.hr/past-events/the-troubled-a
 ngels-christmas-slo/2024-12-07-22-49
END:VEVENT
END:VCALENDAR
