BEGIN:VCALENDAR
VERSION:2.0
PRODID:-//BFM Country Line Dance Zagreb//NONSGML kigkonsult.se iCalcreator 
 2.30.10//
CALSCALE:GREGORIAN
METHOD:PUBLISH
UID:8755f505-f000-4e49-9022-8a8667a1a110
X-WR-CALNAME:iCagenda
X-WR-CALDESC:Event Management Extension for Joomla!
X-WR-RELCALID:3E26604A-50F4-4449-8B3E-E4F4932D05B5
X-WR-TIMEZONE:UTC
BEGIN:VTIMEZONE
TZID:UTC
END:VTIMEZONE
BEGIN:VEVENT
UID:ed7d06be-10fb-4157-b36f-fbcbd744f49b
DTSTAMP:20260423T055226Z
CATEGORIES:RADIONICA
CLASS:PUBLIC
DESCRIPTION;ALTREP="CID:<FFFF__=0ABBE548DFE235B58f9e8a93d@coffeebean.com>":
 PRIJAVE SU U TIJEKU! Country line dance radionica za početnike na Western 
 ranchu COWBOY ponovno se održava u petak\, 11.04.\, u 17:30h\nCijena radio
 nice: 10\,00eur\, Prijavu pošalji na info@cowboy.com.hr\nBroj mjesta je og
 raničen\, stoga bolje požuri - skupi ekipu ili dođi solo. Veselimo se pono
 vnom druženju! Kako nam je bilo prošli put\, pogledaj na našoj stranici: h
 ttps://bfm-country-line-dance-zagreb.hr/blog
DTSTART:20250411T173000Z
DTEND:20250411T173000Z
GEO:+45.657726;+15.965256
LOCATION:Country ranch COWBOY - Markuševac Turopoljski
ORGANIZER;CN=:info@cowboy.com.hr
SEQUENCE:1
SUMMARY:Radionica 11.4.2025. @ Western ranch COWBOY
TRANSP:OPAQUE
URL:https://www.bfm-country-line-dance-zagreb.hr/past-events/radionica-west
 ern-ranch-cowboy-11-4-25/2025-04-11-17-30
END:VEVENT
END:VCALENDAR
