BEGIN:VCALENDAR
VERSION:2.0
PRODID:-//BFM Country Line Dance Zagreb//NONSGML kigkonsult.se iCalcreator 
 2.30.10//
CALSCALE:GREGORIAN
METHOD:PUBLISH
UID:220965b3-bdbd-4f10-814a-3bc034162902
X-WR-CALNAME:iCagenda
X-WR-CALDESC:Event Management Extension for Joomla!
X-WR-RELCALID:3E26604A-50F4-4449-8B3E-E4F4932D05B5
X-WR-TIMEZONE:UTC
BEGIN:VTIMEZONE
TZID:UTC
END:VTIMEZONE
BEGIN:VEVENT
UID:89920466-245f-466c-bada-b3bc192e5a8b
DTSTAMP:20260423T055123Z
CATEGORIES:RADIONICA
CLASS:PUBLIC
DESCRIPTION;ALTREP="CID:<FFFF__=0ABBE548DFE235B58f9e8a93d@coffeebean.com>":
 Radionica Country Line Dance za početnike!\nRezervirajte mjesto putem e-ma
 ila info@cowboy.com.hr
DTSTART:20250221T173000Z
DTEND:20250221T173000Z
GEO:+45.657726;+15.965256
LOCATION:
ORGANIZER;CN=:info@cowboy.com.hr
SEQUENCE:1
SUMMARY:Radionica - Western ranch COWBOY
TRANSP:OPAQUE
URL:https://www.bfm-country-line-dance-zagreb.hr/past-events/radionica-uz-r
 ezervacije-3/2025-02-21-17-30
END:VEVENT
END:VCALENDAR
