BEGIN:VCALENDAR
VERSION:2.0
PRODID:-//BFM Country Line Dance Zagreb//NONSGML kigkonsult.se iCalcreator 
 2.30.10//
CALSCALE:GREGORIAN
METHOD:PUBLISH
UID:a28963d1-a201-4af2-a1d0-f9ba4a36783f
X-WR-CALNAME:iCagenda
X-WR-CALDESC:Event Management Extension for Joomla!
X-WR-RELCALID:3E26604A-50F4-4449-8B3E-E4F4932D05B5
X-WR-TIMEZONE:UTC
BEGIN:VTIMEZONE
TZID:UTC
END:VTIMEZONE
BEGIN:VEVENT
UID:2ab05dae-cdc0-41cb-b445-fa80de6ed588
DTSTAMP:20260423T055031Z
CATEGORIES:FESTIVAL
CLASS:PUBLIC
DESCRIPTION;ALTREP="CID:<FFFF__=0ABBE548DFE235B58f9e8a93d@coffeebean.com>":
 Sale prices until 15th February\n\n3-Day festival ticket - 45 €\n2-Day fes
 tival ticket - 35 €\n1-Day festival ticket for Saturday only - 25 €\n1-Day
  festival ticket for either Friday or Sunday - 20 €\n\nFill in this Google
  form to register and see the payment options: https://forms.gle/eDPi6WKPf
 AVLMMhr7\nWrite to info@hotheels.si if you are looking for hotel accommoda
 tion.
DTSTART:20250704T191100Z
DTEND:20250706T191100Z
GEO:+46.252735;+15.101229
LOCATION:
ORGANIZER:
SEQUENCE:1
SUMMARY:Hot heels & friends country fest - SLO
TRANSP:OPAQUE
URL:https://www.bfm-country-line-dance-zagreb.hr/past-events/hot-heels-frie
 nds-country-fest
END:VEVENT
END:VCALENDAR
