BEGIN:VCALENDAR
VERSION:2.0
PRODID:-//BFM Country Line Dance Zagreb//NONSGML kigkonsult.se iCalcreator 
 2.30.10//
CALSCALE:GREGORIAN
METHOD:PUBLISH
UID:9938fc4f-8cce-4e7b-9b46-ef125248d751
X-WR-CALNAME:iCagenda
X-WR-CALDESC:Event Management Extension for Joomla!
X-WR-RELCALID:3E26604A-50F4-4449-8B3E-E4F4932D05B5
X-WR-TIMEZONE:UTC
BEGIN:VTIMEZONE
TZID:UTC
END:VTIMEZONE
BEGIN:VEVENT
UID:de885e53-ce32-42ef-9471-f12539dabb62
DTSTAMP:20260423T055933Z
CATEGORIES:FESTIVAL
CLASS:PUBLIC
DESCRIPTION;ALTREP="CID:<FFFF__=0ABBE548DFE235B58f9e8a93d@coffeebean.com>":
 Organiziramo Summer Country Festival u Péteriju\, samo 10 minuta od Budimp
 ešte\, u slikovitom okruženju.\nNaši gosti bit će: Gianmarco Johnny Rossat
 o i Federica Dall'Aglio iz Italije\, Edu Roldós Carrau iz Katalonije. Za o
 dličnu atmosferu pobrinut će se DJ Zagy - Igor Zagajski iz Hrvatske\, a u 
 petak ćemo ponovno plesati na koncertu Balássy Betty i Varga Feri.\nPonovn
 o organiziramo Ples oko jezera\, s ciljem stvaranja tradicije i obaranja r
 ekorda svake godine. Za dokumentaciju ćemo zatražiti podršku Mađarskog rek
 orda saveza.\nBit će brzi ples za početnike i napredne plesače.Moći ćete j
 ahati mehaničkog bika i sudjelovati u raznim igrama spretnosti.Ili jednost
 avno uživati i opustiti se na obali jezera.\nNa lokaciji je moguće rezervi
 rati smještaj s punim pansionom\, ali u ograničenom broju.Također\, oni ko
 ji ne prespavaju mogu naručiti ručak i večeru – meni stiže uskoro!\n🎟Cijen
 e ulaznica:🔹3 dana: 20.000 Ft🔹Petak: 7.000 Ft🔹Subota: 10.000 Ft🔹Nedjelja: 
 6.000 Ft\nCijene sa smještajem dostupne su u privatnim dogovorima.\n \n \n
 https://www.youtube.com/watch?v=gZaQ1NZ0EsI
DTSTART:20250530T130700Z
DTEND:20250601T130700Z
GEO:+47.379726;+19.417627
LOCATION:
ORGANIZER:
SEQUENCE:1
SUMMARY:Dokk19 Summer Country Fesztivál 2025 - HUN
TRANSP:OPAQUE
URL:https://www.bfm-country-line-dance-zagreb.hr/past-events/dokk19-summer-
 country-fesztival-2025
END:VEVENT
END:VCALENDAR
