BEGIN:VCALENDAR
VERSION:2.0
PRODID:-//BFM Country Line Dance Zagreb//NONSGML kigkonsult.se iCalcreator 
 2.30.10//
CALSCALE:GREGORIAN
METHOD:PUBLISH
UID:cb006df2-add5-4b43-8f0a-c8a1ebb0e16e
X-WR-CALNAME:iCagenda
X-WR-CALDESC:Event Management Extension for Joomla!
X-WR-RELCALID:3E26604A-50F4-4449-8B3E-E4F4932D05B5
X-WR-TIMEZONE:UTC
BEGIN:VTIMEZONE
TZID:UTC
END:VTIMEZONE
BEGIN:VEVENT
UID:9ef8251c-2f78-4437-8780-78261d248fc1
DTSTAMP:20260423T054658Z
CATEGORIES:FESTIVAL
CLASS:PUBLIC
DESCRIPTION:
DTSTART:20250705T143300Z
DTEND:20250706T143300Z
GEO:+46.155586;+16.960175
LOCATION:Imanje ''Stari zanati''
ORGANIZER:
SEQUENCE:1
SUMMARY:Country vikend u Hlebinama 2025 - HRV
TRANSP:OPAQUE
URL:https://www.bfm-country-line-dance-zagreb.hr/past-events/country-vikend
 -u-hlebinama-2025-hrv
END:VEVENT
END:VCALENDAR
