BEGIN:VCALENDAR
VERSION:2.0
PRODID:-//BFM Country Line Dance Zagreb//NONSGML kigkonsult.se iCalcreator 
 2.30.10//
CALSCALE:GREGORIAN
METHOD:PUBLISH
UID:cdf6daec-926c-4491-b5e4-aba962850e28
X-WR-CALNAME:iCagenda
X-WR-CALDESC:Event Management Extension for Joomla!
X-WR-RELCALID:3E26604A-50F4-4449-8B3E-E4F4932D05B5
X-WR-TIMEZONE:UTC
BEGIN:VTIMEZONE
TZID:UTC
END:VTIMEZONE
BEGIN:VEVENT
UID:257226cb-be67-4c1e-98e6-c61bcfb94560
DTSTAMP:20260423T055933Z
CATEGORIES:PLESNA VEČER
CLASS:PUBLIC
DESCRIPTION;ALTREP="CID:<FFFF__=0ABBE548DFE235B58f9e8a93d@coffeebean.com>":
 Nakon veselog prosinca obično dolazi smireniji siječanj\, ali to nas neće 
 spriječiti jer ćemo ponovno plesati u Mislinji.\nOkupljanje u 17:00\, a po
 četak plesne liste u 18:00.\nHRANA I PIĆE IZ RUKSAKA.\nPrijave i plesne že
 lje pošaljite na country.lajf@gmail.com.\nULAZNICA: 10 eura
DTSTART:20250111T170000Z
DTEND:20250111T170000Z
GEO:+46.444679;+15.195245
LOCATION:TUŠ
ORGANIZER:
SEQUENCE:1
SUMMARY:Country plesni večer - SLO
TRANSP:OPAQUE
URL:https://www.bfm-country-line-dance-zagreb.hr/past-events/country-plesni
 -vecer-slo/2025-01-11-17-00
END:VEVENT
END:VCALENDAR
