BEGIN:VCALENDAR
VERSION:2.0
PRODID:-//BFM Country Line Dance Zagreb//NONSGML kigkonsult.se iCalcreator 
 2.30.10//
CALSCALE:GREGORIAN
METHOD:PUBLISH
UID:4070c1d9-951c-4e16-90ec-7ead9df4e09c
X-WR-CALNAME:iCagenda
X-WR-CALDESC:Event Management Extension for Joomla!
X-WR-RELCALID:3E26604A-50F4-4449-8B3E-E4F4932D05B5
X-WR-TIMEZONE:UTC
BEGIN:VTIMEZONE
TZID:UTC
END:VTIMEZONE
BEGIN:VEVENT
UID:057c16d5-a18a-4342-af9e-236e4aafe3d7
DTSTAMP:20260423T054929Z
CATEGORIES:FESTIVAL
CLASS:PUBLIC
DESCRIPTION;ALTREP="CID:<FFFF__=0ABBE548DFE235B58f9e8a93d@coffeebean.com>":
 Pridružite nam se na jedinstvenom vikendu u stilu Divljeg zapada – za sve 
 ljubitelje country glazbe\, plesa\, prirode\, dobre hrane i opuštene obite
 ljske atmosfere.\nGLAZBA I PLESDJ Kauboj &amp\; DJ Šerif – cijeli vikendGr
 upa Nardin – živa country glazbaPlesna škola Wild West – vođeni country pl
 esovi i radionice za početnike i djecu\nAKTIVNOSTI ZA SVE GENERACIJEVožnja
  kočijom i jahanje konjaNapuhanci za djecuRC FUN PARK – modeli za drift\, 
 off-road i još mnogo togaKovač na djelu i kipar s motornom pilomDva foto-k
 uta u western stilu\nKAUBOJSKE IGRENa raspolaganju će biti i prave kaubojs
 ke igre\, poput bacanja lasa\, jahanja mehaničkog bika\, bacanja potkove i
  drugih zabavnih izazova.! Tražimo najbolje kauboje Kaubojske zemlje – tko
  god se usudi\, može se prijaviti i okušati u ekipnom natjecanju (3 člana)
 !\nHRANA I PIĆEPečeni odojci i janjetinaJela s roštiljaPivo\, kokteli i be
 zalkoholna pića i još mnogo toga\nULAZNICA10 € po osobi30 € obiteljska kar
 ta (2 odrasla + 2 djece)Djeca do 2 godine besplatno\nKampiranje: 20 € po s
 mještajnoj jedinici (šator\, prikolica\, kamper)Rezervacije za kampiranje 
 su obavezne\nŽELITE SVOJ ŠTAND?Imate ponudu koja se uklapa u country temu?
 Pišite nam u inbox ili nazovite [031283626].\nObujte kaubojske čizme\, sta
 vite šešir i vidimo se u Kaubojskoj zemlji na farmi Čož!\n 
DTSTART:20250905T164800Z
DTEND:20250907T164800Z
GEO:+45.982887;+14.745484
LOCATION:Kmetija Čož
ORGANIZER:
SEQUENCE:1
SUMMARY:Country Family Fest - SLO
TRANSP:OPAQUE
URL:https://www.bfm-country-line-dance-zagreb.hr/past-events/country-family
 -fest
END:VEVENT
END:VCALENDAR
