BEGIN:VCALENDAR
VERSION:2.0
PRODID:-//BFM Country Line Dance Zagreb//NONSGML kigkonsult.se iCalcreator 
 2.30.10//
CALSCALE:GREGORIAN
METHOD:PUBLISH
UID:e1e3fe1d-1399-42c2-b77f-09e2c2e1322b
X-WR-CALNAME:iCagenda
X-WR-CALDESC:Event Management Extension for Joomla!
X-WR-RELCALID:3E26604A-50F4-4449-8B3E-E4F4932D05B5
X-WR-TIMEZONE:UTC
BEGIN:VTIMEZONE
TZID:UTC
END:VTIMEZONE
BEGIN:VEVENT
UID:0a85db90-5601-46ab-961b-b8a9d7a1dc13
DTSTAMP:20260423T055314Z
CATEGORIES:PLESNA VEČER
CLASS:PUBLIC
DESCRIPTION;ALTREP="CID:<FFFF__=0ABBE548DFE235B58f9e8a93d@coffeebean.com>":
 Country zabava u Táncsicsu!\nTijekom večeri nastupit će SWEET HOME ZENEKAR
 \, početak u 18:00 sati.\nPrije i nakon koncerta publika može plesati coun
 try line dance.\nUlaznica na licu mjesta i u pretprodaji: 3.000 Ft/osoba.
 \nZa grupe (minimalno 10 osoba) 2.000 Ft/osoba.\nRegistracija\, rezervacij
 a stolova:\n 📞06-1-286-0262\n📧portatancsics@gmail.com
DTSTART:20250301T170000Z
DTEND:20250301T170000Z
GEO:+47.402363;+19.113358
LOCATION:Táncsics Mihály Művelődési Ház
ORGANIZER:
SEQUENCE:1
SUMMARY:Country est - Sweet home Zenekar - HUN
TRANSP:OPAQUE
URL:https://www.bfm-country-line-dance-zagreb.hr/past-events/country-est-sw
 eet-home-zenekar/2025-03-01-17-00
END:VEVENT
END:VCALENDAR
