BEGIN:VCALENDAR
VERSION:2.0
PRODID:-//BFM Country Line Dance Zagreb//NONSGML kigkonsult.se iCalcreator 
 2.30.10//
CALSCALE:GREGORIAN
METHOD:PUBLISH
UID:6dfaaa85-5508-452c-b768-0cfec8cfa2ae
X-WR-CALNAME:iCagenda
X-WR-CALDESC:Event Management Extension for Joomla!
X-WR-RELCALID:3E26604A-50F4-4449-8B3E-E4F4932D05B5
X-WR-TIMEZONE:UTC
BEGIN:VTIMEZONE
TZID:UTC
END:VTIMEZONE
BEGIN:VEVENT
UID:bc5df537-0f56-4b1e-afb3-74e6e9302e45
DTSTAMP:20260425T104324Z
CATEGORIES:RADIONICA
CLASS:PUBLIC
DESCRIPTION;ALTREP="CID:<FFFF__=0ABBE548DFE235B58f9e8a93d@coffeebean.com>":
 \nOvaj vikend malo drugačiji party! \nU restoranu San Antonio u Bestovju j
 e ovaj petak dobra klasična old-school zabava!\n \nČekaju vas glazba\, kok
 teli i vatreni country line dance ritmovi!\n \n\n\nStartamo već od 18h:\n
 \n\n\nBesplatna radionica Country Line Dance-a u organizaciji Udruge Barnf
 loor Molesters\nFantastični kokteli koje priprema Iva iz @art.of.bar\nLive
  svirka\nPredstavljanje novog jela u suradnji s Mirom iz @gastrotrazilica
 \n\n\n\nRezervirajte svoj stol na vrijeme! \n \n\n\nVidimo se u San Antoni
 u u petak!  \n\n
DTSTART:20250704T180000Z
DTEND:20250704T180000Z
GEO:00;0
LOCATION:San Antonio Bestovje
ORGANIZER:
SEQUENCE:1
SUMMARY:4th of July party!
TRANSP:OPAQUE
URL:https://www.bfm-country-line-dance-zagreb.hr/past-events/4th-of-july-pa
 rty/2025-07-04-18-00
END:VEVENT
END:VCALENDAR
