BEGIN:VCALENDAR
VERSION:2.0
PRODID:-//BFM Country Line Dance Zagreb//NONSGML kigkonsult.se iCalcreator 
 2.30.10//
CALSCALE:GREGORIAN
METHOD:PUBLISH
UID:510cb331-3941-4a47-8e8a-09ae64353152
X-WR-CALNAME:iCagenda
X-WR-CALDESC:Event Management Extension for Joomla!
X-WR-RELCALID:3E26604A-50F4-4449-8B3E-E4F4932D05B5
X-WR-TIMEZONE:UTC
BEGIN:VTIMEZONE
TZID:UTC
END:VTIMEZONE
BEGIN:VEVENT
UID:63e400e8-5f76-4dcb-8fee-784425d7dfe6
DTSTAMP:20260423T041137Z
CATEGORIES:FESTIVAL
CLASS:PUBLIC
DESCRIPTION:
DTSTART:20260807T105000Z
DTEND:20260809T105000Z
GEO:+46.156555;+14.419753
LOCATION:
ORGANIZER:
SEQUENCE:1
SUMMARY:Wild West Fest on fire 2026 - SLO
TRANSP:OPAQUE
URL:https://www.bfm-country-line-dance-zagreb.hr/kalendar/wild-west-fest-on
 -fire-2026-slo
END:VEVENT
END:VCALENDAR
