BEGIN:VCALENDAR
VERSION:2.0
PRODID:-//BFM Country Line Dance Zagreb//NONSGML kigkonsult.se iCalcreator 
 2.30.10//
CALSCALE:GREGORIAN
METHOD:PUBLISH
UID:f302da49-cf73-40a2-a2ac-a5b19db51fde
X-WR-CALNAME:iCagenda
X-WR-CALDESC:Event Management Extension for Joomla!
X-WR-RELCALID:3E26604A-50F4-4449-8B3E-E4F4932D05B5
X-WR-TIMEZONE:UTC
BEGIN:VTIMEZONE
TZID:UTC
END:VTIMEZONE
BEGIN:VEVENT
UID:a7d2b6a6-aea3-4844-8f80-f0f96c1b432e
DTSTAMP:20260423T041106Z
CATEGORIES:OSTALO
CLASS:PUBLIC
DESCRIPTION;ALTREP="CID:<FFFF__=0ABBE548DFE235B58f9e8a93d@coffeebean.com>":
 Program:• Western jahačka natjecanja• VIII. Mađarski kup u brzinskom rodeu
 • Vrhunac večeri: Live Bull Rodeo Show Subota: 20:00Nedjelja: 18:30\nLjubi
 teljima zabave posebno preporučujemo i subotnji večernji party. Pripremite
  se – plešemo do zore!\nDečki! Moći ćete upoznati zgodne cowgirlice!Cure! 
 A vi hrabre kauboje!\nOsim toga\, jamčimo da uzbuđenja neće nedostajati ni
  za male ni za velike! 😉nNe zaboravite upisati datum u kalendar\, jer vrij
 eme brzo leti – baš kao i onih 8 sekundi! 😉nVidimo se 25. i 26. srpnja!O s
 vim dodatnim informacijama redovito ćemo vas obavještavati!\n \nhttps://ww
 w.facebook.com/share/v/1AozwF98D2/\n \n \n \n
DTSTART:20260725T090000Z
DTEND:20260726T220000Z
GEO:+47.309498;+19.499151
LOCATION:Hell On Hooves Ranch
ORGANIZER:
SEQUENCE:1
SUMMARY:RODEO - Hungary
TRANSP:OPAQUE
URL:https://www.bfm-country-line-dance-zagreb.hr/kalendar/tyuxi-rodeo-hunga
 ry
END:VEVENT
END:VCALENDAR
