BEGIN:VCALENDAR
VERSION:2.0
PRODID:-//BFM Country Line Dance Zagreb//NONSGML kigkonsult.se iCalcreator 
 2.30.10//
CALSCALE:GREGORIAN
METHOD:PUBLISH
UID:a6e7479f-0c92-4f27-b20c-266c8be95673
X-WR-CALNAME:iCagenda
X-WR-CALDESC:Event Management Extension for Joomla!
X-WR-RELCALID:3E26604A-50F4-4449-8B3E-E4F4932D05B5
X-WR-TIMEZONE:UTC
BEGIN:VTIMEZONE
TZID:UTC
END:VTIMEZONE
BEGIN:VEVENT
UID:ae058cc2-422e-4fda-87b5-5a3ee030de2e
DTSTAMP:20260423T041638Z
CATEGORIES:FESTIVAL
CLASS:PUBLIC
DESCRIPTION;ALTREP="CID:<FFFF__=0ABBE548DFE235B58f9e8a93d@coffeebean.com>":
 πππππ πππ ππ!Join us for a unique Wild West-style weekend β for all lovers
  of country music\, dance\, nature\, good food and a relaxed family atmosp
 here.\nπππ&amp\; πππ\nπππ πππ - choreographer from Franceππ πππ- choreogra
 pher from Italyπππππππ- choreographer from Slovenia&amp\; Dance school ππ 
 ππ\nπ π¨π°π¨² β country music from A to Zπ π‘π«π’π- the best country and catalan 
 dance music\nππ§ πππ β live country musicπ¨π¬’π©ππ«­π’§π¨―π’ - live rockabilly music\n
 Β \nπππππ ππππππππππarriage rides and horse ridingA blacksmith in actionTwo
  photo corners in western styleA display of old horse work (mowing\, turni
 ng hay\, etc.)Inflatable toys for children\nΒ \nπππ πππhere will also be re
 al cowboy games available\, such as lasso throwing\, mechanical bull ridin
 g\, horseshoe throwing and other fun challenges.!WE ARE LOOKING FOR THE BE
 ST COWBOYS IN THE COUNTRY β anyone who dares can register and compete in t
 he team competition (3 members)!\nΒ \nπππππππ¬10 per personβ¬25 weekend ticke
 tβ¬30 family ticket (2 adults + 2 children)*children under 2 years old free
 **free entry for PICK-UP drivers\nTickets available in advance:https://wes
 ternshop.si/?s=montwest\nππππ(π¨π­¨π«‘π¨¦π, π«π’π₯π«, ππ§­π¬Camping reservations are man
 datory:https://westernshop.si/?s=montwest\nππππ ππ ππ-π ππttps://forms.gle
 /KRsD3Ez7iMaF7afg7\nΒ \nΒ \nΒ 
DTSTART:20260619T170000Z
DTEND:20260621T200000Z
GEO:+45.982887;+14.745484
LOCATION:Kmetija ΔOΕ½- Kavbojska deΕΎela
ORGANIZER:
SEQUENCE:1
SUMMARY:MONTWEST Festival 2026
TRANSP:OPAQUE
URL:https://www.bfm-country-line-dance-zagreb.hr/kalendar/montwest-festival
 -2026
END:VEVENT
END:VCALENDAR
