BEGIN:VCALENDAR
VERSION:2.0
PRODID:-//BFM Country Line Dance Zagreb//NONSGML kigkonsult.se iCalcreator 
 2.30.10//
CALSCALE:GREGORIAN
METHOD:PUBLISH
UID:ab69a492-5f3e-4dd5-8653-211a830313fc
X-WR-CALNAME:iCagenda
X-WR-CALDESC:Event Management Extension for Joomla!
X-WR-RELCALID:3E26604A-50F4-4449-8B3E-E4F4932D05B5
X-WR-TIMEZONE:UTC
BEGIN:VTIMEZONE
TZID:UTC
END:VTIMEZONE
BEGIN:VEVENT
UID:86b963f4-71d3-4ada-94bc-5bffb9560194
DTSTAMP:20260423T055031Z
CATEGORIES:FESTIVAL
CLASS:PUBLIC
DESCRIPTION:
DTSTART:20240517T221900Z
DTEND:20240519T221900Z
GEO:+45.408386;+13.658752
LOCATION:
ORGANIZER:
SEQUENCE:1
SUMMARY:WCD Festival 2024 - Buje\, Istra
TRANSP:OPAQUE
URL:https://www.bfm-country-line-dance-zagreb.hr/past-events/wcd-festival-2
 024-buje-istra
END:VEVENT
END:VCALENDAR
