BEGIN:VCALENDAR
VERSION:2.0
PRODID:-//BFM Country Line Dance Zagreb//NONSGML kigkonsult.se iCalcreator 
 2.30.10//
CALSCALE:GREGORIAN
METHOD:PUBLISH
UID:8f5b87c6-3d3b-4958-a7b1-2feb1fe1e608
X-WR-CALNAME:iCagenda
X-WR-CALDESC:Event Management Extension for Joomla!
X-WR-RELCALID:3E26604A-50F4-4449-8B3E-E4F4932D05B5
X-WR-TIMEZONE:UTC
BEGIN:VTIMEZONE
TZID:UTC
END:VTIMEZONE
BEGIN:VEVENT
UID:99af83f4-ac5b-4e02-bb55-ad146ec27266
DTSTAMP:20260423T055001Z
CATEGORIES:FESTIVAL
CLASS:PUBLIC
DESCRIPTION;ALTREP="CID:<FFFF__=0ABBE548DFE235B58f9e8a93d@coffeebean.com>":
 WCD COUNTRY FESTIVAL 2025\nRASPRODANO!\nLa Capannina is one of the best re
 staurants in the Umag area and you will have the opportunity to enjoy exce
 llent cuisine with a wide range of excellent drinks and a view of the beac
 hes and the city center of Umag in the background. Umag\, the first town o
 n the way to Istria from the north\, captivates with its charm\, diversity
  and wealth of offer. Umag is a town that synthesizes the peculiarities of
  the entire region through 45 km of coastline and an interesting hinterlan
 d and is perhaps the best introduction to a different experience of the Me
 diterranean.\nThe time to book tickets has begun\, so we are ready to rece
 ive your emails.\nIn the application form you will find all the informatio
 n for the tickets to participate in this unforgettable event. Don't loose 
 the chance to be with us on this very special occasion.\nBook your place n
 ow\, as the number of participants is limited.\nSend an e-mail to: festiva
 l@wildcountrydancers.com\nPLEASE NOTE THAT TICKETS CANNOT BE PURCHASED ON 
 THE SITE.
DTSTART:20250502T203000Z
DTEND:20250504T203000Z
GEO:+45.441441;+13.509206
LOCATION:La Capannina
ORGANIZER:
SEQUENCE:1
SUMMARY:WCD Country Festival 2025 - HRV
TRANSP:OPAQUE
URL:https://www.bfm-country-line-dance-zagreb.hr/past-events/wcd-country-fe
 stival-2025
END:VEVENT
END:VCALENDAR
