BEGIN:VCALENDAR
VERSION:2.0
PRODID:-//BFM Country Line Dance Zagreb//NONSGML kigkonsult.se iCalcreator 
 2.30.10//
CALSCALE:GREGORIAN
METHOD:PUBLISH
UID:7a48b110-2b53-4304-a559-0111c6a97dc6
X-WR-CALNAME:iCagenda
X-WR-CALDESC:Event Management Extension for Joomla!
X-WR-RELCALID:3E26604A-50F4-4449-8B3E-E4F4932D05B5
X-WR-TIMEZONE:UTC
BEGIN:VTIMEZONE
TZID:UTC
END:VTIMEZONE
BEGIN:VEVENT
UID:c58cbd12-a34c-451c-b139-25bd91653f81
DTSTAMP:20260423T055031Z
CATEGORIES:PLESNA VEČER
CLASS:PUBLIC
DESCRIPTION;ALTREP="CID:<FFFF__=0ABBE548DFE235B58f9e8a93d@coffeebean.com>":
 Sa velikim zadovoljstvom vam najavljujemo proslavu 10 godina naše grupe Wi
 ld Country Dancers i Udruge LIV.\nDugogodišnji trud i rad nas je doveo do 
 onoga što smo danas\, mala grupa velikih ljudi\, koji djele ljubav i stras
 t prema country plesu i općenito radu na poboljšanju fizičkih sposobnosti.
 \nCountry grupa Wild Country Dancers počela je djelovati u siječnju 2016 g
 odine unutar Udruge LIV te danas održava tečajeve country plesa te plesne 
 večeri u Istri kao i u obližnjim krajevima.\nZato s veseljem pozivamo sve 
 country plesače da nam se pridruže u subotu 17 siječnja 2026. godine na pr
 oslavi naše godišnjice\, na kojoj če nam gostovati Jgor Pasin \, koreograf
  i dugogodišnji prijatelj koji je uz nas od prvog festivala.\nZato budite 
 dio naše proslave dođite u Kaštel!\nObavezna prijava na događaj zbog ogran
 ičenog mjesta. \nZa sve info i prijave: ivana@wildcountrydancers.com / 003
 85 916006203 (whatsapp/sms/call)
DTSTART:20260117T000000Z
DTEND:20260117T000000Z
GEO:+45.450626;+13.652986
LOCATION:
ORGANIZER;CN=:ivana@wildcountrydancers.com
SEQUENCE:1
SUMMARY:WCD 10 years anniversary party
TRANSP:OPAQUE
URL:https://www.bfm-country-line-dance-zagreb.hr/past-events/wcd-10-years-a
 nniversary-party/2026-01-17-00-00
END:VEVENT
END:VCALENDAR
