BEGIN:VCALENDAR
VERSION:2.0
PRODID:-//BFM Country Line Dance Zagreb//NONSGML kigkonsult.se iCalcreator 
 2.30.10//
CALSCALE:GREGORIAN
METHOD:PUBLISH
UID:091067a2-98bf-4708-9b07-2f4eeef0f08d
X-WR-CALNAME:iCagenda
X-WR-CALDESC:Event Management Extension for Joomla!
X-WR-RELCALID:3E26604A-50F4-4449-8B3E-E4F4932D05B5
X-WR-TIMEZONE:UTC
BEGIN:VTIMEZONE
TZID:UTC
END:VTIMEZONE
BEGIN:VEVENT
UID:59d176b8-0c7d-4c96-9206-334a61054171
DTSTAMP:20260423T055122Z
CATEGORIES:RADIONICA
CLASS:PUBLIC
DESCRIPTION;ALTREP="CID:<FFFF__=0ABBE548DFE235B58f9e8a93d@coffeebean.com>":
 Radionica Country Line Dance za početnike!\nRezervirajte mjesto putem e-ma
 ila info@cowboy.com.hr
DTSTART:20250314T173000Z
DTEND:20250314T173000Z
GEO:+45.657726;+15.965256
LOCATION:
ORGANIZER;CN=:info@cowboy.com.hr
SEQUENCE:1
SUMMARY:Radionica - Western ranch COWBOY
TRANSP:OPAQUE
URL:https://www.bfm-country-line-dance-zagreb.hr/past-events/radionica-uz-r
 ezervacije/2025-03-14-17-30
END:VEVENT
END:VCALENDAR
