BEGIN:VCALENDAR
VERSION:2.0
PRODID:-//BFM Country Line Dance Zagreb//NONSGML kigkonsult.se iCalcreator 
 2.30.10//
CALSCALE:GREGORIAN
METHOD:PUBLISH
UID:dc9049fb-451e-46a9-b388-7079229360a0
X-WR-CALNAME:iCagenda
X-WR-CALDESC:Event Management Extension for Joomla!
X-WR-RELCALID:3E26604A-50F4-4449-8B3E-E4F4932D05B5
X-WR-TIMEZONE:UTC
BEGIN:VTIMEZONE
TZID:UTC
END:VTIMEZONE
BEGIN:VEVENT
UID:28a82106-bc89-4f57-b8fe-77cdbb63a4cb
DTSTAMP:20260423T055226Z
CATEGORIES:RADIONICA
CLASS:PUBLIC
DESCRIPTION;ALTREP="CID:<FFFF__=0ABBE548DFE235B58f9e8a93d@coffeebean.com>":
 PRIJAVE SU U TIJEKU! Country line dance radionica za početnike na Western 
 ranchu COWBOY ponovno se održava u petak\, 25.04.2025.\, u 17:30h\nCijena 
 radionice: 10\,00eur\, Prijavu pošalji na info@cowboy.com.hr\nBroj mjesta 
 je ograničen\, stoga bolje požuri - skupi ekipu ili dođi solo. Veselimo se
  ponovnom druženju! Kako nam je bilo prošli put\, pogledaj na našoj strani
 ci: https://bfm-country-line-dance-zagreb.hr/blog
DTSTART:20250425T173000Z
DTEND:20250425T173000Z
GEO:+45.657726;+15.965256
LOCATION:Country ranch COWBOY - Markuševac Turopoljski
ORGANIZER;CN=:info@cowboy.com.hr
SEQUENCE:1
SUMMARY:Radionica 25.4.2025. @ Western ranch COWBOY
TRANSP:OPAQUE
URL:https://www.bfm-country-line-dance-zagreb.hr/past-events/radionica-25-4
 -2025-western-ranch-cowboy/2025-04-25-17-30
END:VEVENT
END:VCALENDAR
