BEGIN:VCALENDAR
VERSION:2.0
PRODID:-//BFM Country Line Dance Zagreb//NONSGML kigkonsult.se iCalcreator 
 2.30.10//
CALSCALE:GREGORIAN
METHOD:PUBLISH
UID:a576f3df-2eb8-4fd3-81a8-b6fe3faf0262
X-WR-CALNAME:iCagenda
X-WR-CALDESC:Event Management Extension for Joomla!
X-WR-RELCALID:3E26604A-50F4-4449-8B3E-E4F4932D05B5
X-WR-TIMEZONE:UTC
BEGIN:VTIMEZONE
TZID:UTC
END:VTIMEZONE
BEGIN:VEVENT
UID:a56ff3f1-755b-4ad8-9990-1213ec7f3e0e
DTSTAMP:20260423T055226Z
CATEGORIES:PLESNA VEČER
CLASS:PUBLIC
DESCRIPTION;ALTREP="CID:<FFFF__=0ABBE548DFE235B58f9e8a93d@coffeebean.com>":
 https://bfm-country-line-dance-zagreb.hr/blog/druzenje-na-western-ranch-co
 wboy
DTSTART:20241011T222800Z
DTEND:20241011T222800Z
GEO:+45.657043;+15.96485
LOCATION:
ORGANIZER:
SEQUENCE:1
SUMMARY:Druženje na Western Ranch COWBOY - HRV
TRANSP:OPAQUE
URL:https://www.bfm-country-line-dance-zagreb.hr/past-events/druzenje-na-we
 stern-ranch-cowboy-hrv/2024-10-11-22-28
END:VEVENT
END:VCALENDAR
