BEGIN:VCALENDAR
VERSION:2.0
PRODID:-//BFM Country Line Dance Zagreb//NONSGML kigkonsult.se iCalcreator 
 2.30.10//
CALSCALE:GREGORIAN
METHOD:PUBLISH
UID:d3f9b009-c7c4-4b66-8844-7fa1996ea53a
X-WR-CALNAME:iCagenda
X-WR-CALDESC:Event Management Extension for Joomla!
X-WR-RELCALID:3E26604A-50F4-4449-8B3E-E4F4932D05B5
X-WR-TIMEZONE:UTC
BEGIN:VTIMEZONE
TZID:UTC
END:VTIMEZONE
BEGIN:VEVENT
UID:08d26715-0a7a-4bfb-b777-0d626ec9d989
DTSTAMP:20260423T055226Z
CATEGORIES:PLESNA VEฤER
CLASS:PUBLIC
DESCRIPTION;ALTREP="CID:<FFFF__=0ABBE548DFE235B58f9e8a93d@coffeebean.com>":
 Plesni veฤer na skoraj 8. marec v eni najlepลกih dvoran!! ๐n18:00..........
 ...TWO STEP plesna delavnica\n19:00.............Zaฤetek plesnega veฤera\n2
 2:00.............PLESNI ล OV!!\n03:00.............Zakljuฤek plesnega veฤera
 \nVstopnina: 20โฌ*\n*do 17. leta vstop brezplaฤen\n**v ceno vลกteta plesna d
 elavnica ob 18:00\nGlasbene ลพelje zbiramo na info@wild-west.si\n\n\n\n\nTr
 adicionalni ๐ฃ๐ฆ๐ก ล ๐ขช plesnih skupina 7. oลพujka na ๐๐๐๐๐๐๐๐๐๐๐๐| Festivalna d
 vorana Ljubljana.Plesni show namijenjen je svima koji se vole ponekad zaba
 viti\, neลกto osmisliti ili druลพiti.\n๐ป๐ธฌ๐ฎญ๐พป๐ชOkupite plesaฤe koji ลพele s vama
  pripremiti toฤku. Nije nuลพno da svi idu na isti teฤaj ili da pleลกu u naลกo
 j plesnoj ลกkoli.Odaberite koreografiju. Koreografija moลพe biti veฤ postoje
 ฤa ili nova. Glazba mora biti u kontekstu country glazbe. Toฤku ฤete uvjeลพ
 bati sami\, bez pomoฤi instruktora.\n๐ฃฟ๐ถท๐ฎ๐ถ๐ฒ๐ถบ๐ฒ๐ฎลก๐ฒ๐ธ๐ฝ๐ถป๐ฒ๐ถ๐ฝผลก๐ฎน๐ทถ๐ฒ .๐บฝ๐ฏ๐ดน๐ฎ๐ฏ ๐ฎ ๐ปฎ๐๐ฝ ๐ปฎ ๐ถ
 ป๐ณผ@๐ถ๐นฑ-๐ฒ๐.๐ถ.Glazba moลพe biti originalna ili miks.\nPlesni show je namijenjen
  zabavi i neฤe biti predmet ocjenjivanja.Hajdemo se dobro zabaviti! ๐n\n\n
 \n
DTSTART:20250307T195000Z
DTEND:20250307T195000Z
GEO:+46.061062;+14.51029
LOCATION:
ORGANIZER:
SEQUENCE:1
SUMMARY:Country plesna veฤer - SLO
TRANSP:OPAQUE
URL:https://www.bfm-country-line-dance-zagreb.hr/past-events/country-plesna
 -vecer-slo/2025-03-07-19-50
END:VEVENT
END:VCALENDAR
