BEGIN:VCALENDAR
VERSION:2.0
PRODID:-//BFM Country Line Dance Zagreb//NONSGML kigkonsult.se iCalcreator 
 2.30.10//
CALSCALE:GREGORIAN
METHOD:PUBLISH
UID:d6f1b8ac-5a70-4373-89f2-4ee453288ae2
X-WR-CALNAME:iCagenda
X-WR-CALDESC:Event Management Extension for Joomla!
X-WR-RELCALID:3E26604A-50F4-4449-8B3E-E4F4932D05B5
X-WR-TIMEZONE:UTC
BEGIN:VTIMEZONE
TZID:UTC
END:VTIMEZONE
BEGIN:VEVENT
UID:3b11dd28-f276-47d6-92da-a88c53766272
DTSTAMP:20260423T055001Z
CATEGORIES:PLESNA VEČER
CLASS:PUBLIC
DESCRIPTION;ALTREP="CID:<FFFF__=0ABBE548DFE235B58f9e8a93d@coffeebean.com>":
 Zbog ograničenog broja mjesta\, dolazak bez registracije NIJE MOGUĆ!Ako op
 cija za registraciju više nije aktivna to znači da su sva mjesta popunjena
 !\n \nPozdrav!\nOvim putem vas pozivamo na 7th Hoedown u Zagrebu kod Barnf
 loor Molesters 🎉vo je prvi Hoedown otvoren za javnost te druge klubove i g
 rupe!\n \n 📅Datum i vrijeme\nSubota\, 14.03.2026.17:30 – 23:00 h\nDANCELIS
 T START u 18:00h sa koreografijom Hoedown (Gary O'Reilly)\n \n📍Lokacija\nZ
 agrebLink na Google maps: https://maps.app.goo.gl/wHDF55Cb3Ze9zhmRA\n \n 📝
 Registracija (obavezna)\nZbog ograničenog broja mjesta\, registracija je o
 bavezna.\nZa klubove/grupe: dovoljno je da jedna osoba napravi registracij
 u i označi broj osoba koje dolaze.Za individualne dolaske: potrebna je reg
 istracija imenom i prezimenom.\nRegistraciju možete pronaći klikom na gorn
 ji zeleni gumb „. Register .“. \nUlaz bez prethodne registracije neće biti
  moguć.\n \n 🎶Dance lista – po željama\nAko imate plesne želje\, pošaljite
  dance listu do 01.03.2026. u sljedećem obliku:\nKoreografija + Naziv pjes
 me + Bend/Pjevač\nna e-mail: barnfloormolesters@gmail.com\n \n 💶Donacija 
 \nDonacija za party iznosi 10 € i uključuje:\n* zabavu 🎉 piće dobrodošlice
  (alkoholno i bezalkoholno)* grickalice\nHranu i piće možete ponijeti vlas
 tito. U dvorani NEMA PRODAJE hrane i pića.\n \n🚗Parking\nUlični parking do
 stupan je i besplatan u okolnim ulicama.\n \nVeselimo se vašem dolasku! 🤠
 \n \n\nENGLISH:\n \nHello!\nWe hereby invite you to the 7th Hoedown in Zag
 reb hosted by Barnfloor Molesters 🎉his is the first Hoedown open to the pu
 blic as well as other clubs and groups!\n📅Date &amp\; TimeSaturday\, March
  14\, 20266:00 PM – 11:00 PM\n📍LocationZagrebGoogle Maps link: [https://ma
 ps.app.goo.gl/wHDF55Cb3Ze9zhmRA](https://maps.app.goo.gl/wHDF55Cb3Ze9zhmRA
 )\n📝Registration (mandatory)Due to limited capacity\, registration is requ
 ired.\nFor clubs/groups: one person can complete the registration and indi
 cate the number of attendees.For individual attendees: registration with f
 ull name is required.\nYou can register via the green button on top: „Regi
 ster“. \n🎶Dance List – by RequestIf you have dance requests\, please send 
 your dance list by March 1\, 2026 in the following format:Choreography + S
 ong Title + Band/Singer\nSend to: barnfloormolesters@gmail.com\n💶DonationT
 he party donation is €10 and includes:• fun 🎉 welcome drink (alcoholic and
  non-alcoholic)• snacks\nYou are also welcome to bring your own food and d
 rinks in a backpack.\n🚗ParkingStreet parking is available and free in the 
 surrounding streets.\nWe look forward to seeing you! 🤠\n\n\n \n 
DTSTART:20260314T180000Z
DTEND:20260314T180000Z
GEO:+45.790703;+15.949994
LOCATION:
ORGANIZER;CN=:barnfloormolesters@gmail.com
SEQUENCE:1
SUMMARY:7th HOEDOWN - ZAGREB
TRANSP:OPAQUE
URL:https://www.bfm-country-line-dance-zagreb.hr/past-events/7th-hoedown-za
 greb/2026-03-14-18-00
END:VEVENT
END:VCALENDAR
