BEGIN:VCALENDAR
VERSION:2.0
PRODID:-//BFM Country Line Dance Zagreb//NONSGML kigkonsult.se iCalcreator 
 2.30.10//
CALSCALE:GREGORIAN
METHOD:PUBLISH
UID:57a3532c-b336-4609-9407-512fee4777b8
X-WR-CALNAME:iCagenda
X-WR-CALDESC:Event Management Extension for Joomla!
X-WR-RELCALID:3E26604A-50F4-4449-8B3E-E4F4932D05B5
X-WR-TIMEZONE:UTC
BEGIN:VTIMEZONE
TZID:UTC
END:VTIMEZONE
BEGIN:VEVENT
UID:a5e369eb-ff71-46f5-8509-6d81675336cf
DTSTAMP:20260423T042800Z
CATEGORIES:OSTALO
CLASS:PUBLIC
DESCRIPTION;ALTREP="CID:<FFFF__=0ABBE548DFE235B58f9e8a93d@coffeebean.com>":
 \n\n\n\n\n\n\n\n \nHarley Week Zagreb 2026. dobiva novu dozu autentičnog c
 ountry šarma! U goste nam stiže zagrebačka udruga Barnfloor Molesters (BFM
 ) – jedina udruga u ovom dijelu Hrvatske koja se kontinuirano bavi country
  line dance kulturom. Poznati po energičnim nastupima\, zajedništvu i atmo
 sferi koja osvaja i potpune početnike i iskusne plesače\, BFM će u nedjelj
 u 31. svibnja 2026. voditi dva posebna tečaja osnova country line dancea z
 a sve posjetitelje Harley Weeka.\n\n \n\nNedjelja\, 31. 5. 2026. – dva ter
 mina za sve posjetitelje:\n\n\n- Kasno jutro – uvodni tečaj za sve koji že
 le prvi put stati na line dance podij \n\n\n- Rano poslijepodne – ponovlje
 ni termin za sve koji žele još jednom zaplesati ili su propustili prvi\n\n
  \n\nBFM-ov pristup je jednostavan: nije vam potreban partner\, samo dobra
  volja! Njihovi iskusni članovi vode polaznike kroz svaki korak\, stvaraju
 ći atmosferu u kojoj se svi osjećaju dobrodošlo. Country line dance je zab
 avan\, pristupačan i idealan za sve uzraste — a pritom je i odlična vježba
 . \n\n \n\nPles među publikom za vrijeme koncerata\n\n\nPoseban doživljaj 
 očekuje vas i tijekom nastupa poznatih country bendova na Harley Week pozo
 rnici. Članovi Barnfloor Molestersa bit će među publikom\, spontano povest
 i ples i podići atmosferu — baš onako kako to rade na svojim redovitim dru
 ženjima i nastupima diljem regije. \n\n \n \n\nTko su Barnfloor Molesters?
 \n\n\n- Country line dance udruga iz Zagreba \n\n\n- Aktivni promicatelji 
 country kulture\, plesa i zajedništva \n\n\n- Organizatori brojnih događan
 ja\, radionica i plesnih druženja \n\n\n- Prepoznatljivi po energiji\, pri
 stupačnosti i autentičnom country duhu \n\n\n- Redovito okupljaju plesače 
 iz cijele regije na svojim Hoedown događanjima \n\n \n \n\nPripremite čizm
 e (ili tenisice) i pridružite se!\n\n\nBilo da ste potpuni početnik ili ve
 ć znate pokoji korak\, nedjeljni line dance tečajevi bit će savršena prili
 ka da osjetite duh američkog Juga — u samom srcu Zagreba.\n\n \n \n\nVidim
 o se na Harley Weeku Zagreb 2026. – gdje ritam susreće cestu\, a ples post
 aje dio doživljaja!\n\n\n\n\n\n\n\n
DTSTART:20260531T162400Z
DTEND:20260531T162400Z
GEO:+45.785187;+15.986947
LOCATION:
ORGANIZER:
SEQUENCE:1
SUMMARY:HARLEY WEEK ZAGREB 2026 - Country Day
TRANSP:OPAQUE
URL:https://www.bfm-country-line-dance-zagreb.hr/kalendar/harley-week-zagre
 b-2026-country-day/2026-05-31-16-24
END:VEVENT
END:VCALENDAR
