BEGIN:VCALENDAR
VERSION:2.0
PRODID:-//BFM Country Line Dance Zagreb//NONSGML kigkonsult.se iCalcreator 
 2.30.10//
CALSCALE:GREGORIAN
METHOD:PUBLISH
UID:28d6157d-dfb9-4c7c-8178-6dbe025339c3
X-WR-CALNAME:iCagenda
X-WR-CALDESC:Event Management Extension for Joomla!
X-WR-RELCALID:3E26604A-50F4-4449-8B3E-E4F4932D05B5
X-WR-TIMEZONE:UTC
BEGIN:VTIMEZONE
TZID:UTC
END:VTIMEZONE
BEGIN:VEVENT
UID:681c1cd7-49fa-40dd-929a-9b9d5a6c347c
DTSTAMP:20260423T041730Z
CATEGORIES:OSTALO
CLASS:PUBLIC
DESCRIPTION;ALTREP="CID:<FFFF__=0ABBE548DFE235B58f9e8a93d@coffeebean.com>":
 2. KONJIČKE IGRE\n10.5.2026. -nedjelja - start u 11h\nBARREL RACING\nPOLE 
 BENDING\nUlaz besplatan\nVIDEO OD PROŠLE GODINE:  https://fb.watch/ELf88Mc
 N_v/
DTSTART:20260510T110000Z
DTEND:20260510T110000Z
GEO:+45.69767;+15.943678
LOCATION:Konjički centar Crna griva Zagreb
ORGANIZER:
SEQUENCE:1
SUMMARY:2. KONJIČKE IGRE
TRANSP:OPAQUE
URL:https://www.bfm-country-line-dance-zagreb.hr/kalendar/2-konjicke-igre/2
 026-05-10-11-00
END:VEVENT
END:VCALENDAR
